BEGIN:VCALENDAR
VERSION:2.0
PRODID:-//Pohjois-Karjalan Pystykorvakerho Ry - ECPv6.15.20//NONSGML v1.0//EN
CALSCALE:GREGORIAN
METHOD:PUBLISH
X-WR-CALNAME:Pohjois-Karjalan Pystykorvakerho Ry
X-ORIGINAL-URL:http://pkpystykorvakerho.net
X-WR-CALDESC:Tapahtumat Pohjois-Karjalan Pystykorvakerho Ry
REFRESH-INTERVAL;VALUE=DURATION:PT1H
X-Robots-Tag:noindex
X-PUBLISHED-TTL:PT1H
BEGIN:VTIMEZONE
TZID:UTC
BEGIN:STANDARD
TZOFFSETFROM:+0000
TZOFFSETTO:+0000
TZNAME:UTC
DTSTART:20200101T000000
END:STANDARD
END:VTIMEZONE
BEGIN:VEVENT
DTSTART;TZID=UTC:20210905T060000
DTEND;TZID=UTC:20210905T170000
DTSTAMP:20260422T074847
CREATED:20210903T162624Z
LAST-MODIFIED:20210903T162624Z
UID:173-1630821600-1630861200@pkpystykorvakerho.net
SUMMARY:Kerhon mestaruuskoe
DESCRIPTION:Koe järjestetään sunnuntaina 5.9.2021. Koepaikka on Enon Pohjoisen Erän Jokimaja\, osoite: Ihannontie 561\, 81295 Joensuu. Ajo-ohje: opastus paikalle tieltä nro 73 (Uimaharju-Lieksa-tie).
URL:http://pkpystykorvakerho.net/event/kerhon-mestaruuskoe/
LOCATION:Joensuu
CATEGORIES:Kokeet
END:VEVENT
END:VCALENDAR