BEGIN:VCALENDAR
VERSION:2.0
PRODID:-//Pohjois-Karjalan Pystykorvakerho Ry - ECPv6.15.20//NONSGML v1.0//EN
CALSCALE:GREGORIAN
METHOD:PUBLISH
X-WR-CALNAME:Pohjois-Karjalan Pystykorvakerho Ry
X-ORIGINAL-URL:http://pkpystykorvakerho.net
X-WR-CALDESC:Tapahtumat Pohjois-Karjalan Pystykorvakerho Ry
REFRESH-INTERVAL;VALUE=DURATION:PT1H
X-Robots-Tag:noindex
X-PUBLISHED-TTL:PT1H
BEGIN:VTIMEZONE
TZID:UTC
BEGIN:STANDARD
TZOFFSETFROM:+0000
TZOFFSETTO:+0000
TZNAME:UTC
DTSTART:20210101T000000
END:STANDARD
END:VTIMEZONE
BEGIN:VEVENT
DTSTART;VALUE=DATE:20221119
DTEND;VALUE=DATE:20221120
DTSTAMP:20260421T100343
CREATED:20220725T080904Z
LAST-MODIFIED:20220725T080904Z
UID:434-1668816000-1668902399@pkpystykorvakerho.net
SUMMARY:Pikkutilikku
DESCRIPTION:Tapahtuman tyyppi\nyleinen\n\n\nKoemuoto\nLinnunhaukkukoe\n\n\nAika\n19.11.2022\n\n\nJärjestäjä\nPOHJOIS-KARJALAN PYSTYKORVAKERHO RY\n\n\nYlituomari\nNIEMELIN HEIKKI\n\n\nRajoituksen perusteet\nVain nimetyille roduille: Pikkutilikku-ottelu alle 3 vuotiaille pohjanpystykorville.\nMuu määrää koskeva rajoitus – koesäännön edellyttämät koetulokset: Pikkutilikku-ottelun järjestämissäännön mukaiset tulokset.\n\n\nIlmoittautuminen\n30.10.-13.11.2022\nOsanottomaksu 55€\nTilinumero FI42 5072 0520 0951 02\nViite 20 22112\n\n\nIlmoittautumisen vastaanottaja\nRATINEN KAISU\nkaisuratinen@hotmail.com\npuh. 0458559455\n\n\nIlmoittautumisen lisätiedot\nPikkutilkku-ottelun järjestämissäännön mukaiset tulokset.\n\n\nLisätiedot\nPikkutilkku-ottelu alle 3 vuotiaille pohjanpystykorville.
URL:http://pkpystykorvakerho.net/event/pikkutilikku/
LOCATION:Joensuu
END:VEVENT
BEGIN:VEVENT
DTSTART;VALUE=DATE:20221127
DTEND;VALUE=DATE:20221128
DTSTAMP:20260421T100343
CREATED:20220725T081145Z
LAST-MODIFIED:20220725T081145Z
UID:436-1669507200-1669593599@pkpystykorvakerho.net
SUMMARY:Kerhon mestaruuskoe
DESCRIPTION:Tapahtuman tyyppi\njäsentenvälinen\n\n\nKoemuoto\nLinnunhaukkukoe\n\n\nAika\n27.11.2022\n\n\nJärjestäjä\nPOHJOIS-KARJALAN PYSTYKORVAKERHO RY\n\n\nYlituomari\nNORPPA JOUNI\n\n\nRajoituksen perusteet\nEtusija järjestävän yhdistyksen jäsenillä: Kerhon jäsentenvälinen mestaruuskoe\n\n\nIlmoittautuminen\n6.-20.11.2022\n\n\nIlmoittautumisen vastaanottaja\nRATINEN KAISU\nkaisuratinen@hotmail.com\npuh. 0458559455\n\n\nIlmoittautumisen lisätiedot\nIlmoittautuminen Kennelliiton virallisella lomakkeella.\n\n\nLisätiedot\nIlmoittautuminen Kennelliiton virallisella lomakkeella. Alle 80 km päästä koepaikalle saapuvilla pitää olla oma maasto mukana.
URL:http://pkpystykorvakerho.net/event/kerhon-mestaruuskoe-2/
LOCATION:Joensuu
END:VEVENT
END:VCALENDAR